BEGIN:VCALENDAR
VERSION:2.0
PRODID:-//kyohatsu//JP
CALSCALE:GREGORIAN
BEGIN:VEVENT
DTSTART;VALUE=DATE:20260617
SUMMARY:KING OF DIGGIN' “DIGGIN' MPS" - EP【アナログ盤】
DESCRIPTION:MURO SOLID、MPS
UID:4526180759720@kyohatsu.lb-product.com
END:VEVENT
END:VCALENDAR
