BEGIN:VCALENDAR
VERSION:2.0
PRODID:-//kyohatsu//JP
CALSCALE:GREGORIAN
BEGIN:VEVENT
DTSTART;VALUE=DATE:20260529
SUMMARY:HE WHO KILLS
DESCRIPTION:MONOLIYTH Wormholedeath Japan
UID:4562275585508@kyohatsu.lb-product.com
END:VEVENT
END:VCALENDAR
