BEGIN:VCALENDAR
VERSION:2.0
PRODID:-//kyohatsu//JP
CALSCALE:GREGORIAN
BEGIN:VEVENT
DTSTART;VALUE=DATE:20260510
SUMMARY:やり込んだ乙女ゲームの悪役モブですが、断罪は嫌なので真っ当に生きます14
DESCRIPTION:MIZUNA TOブックス
UID:9784867949955@kyohatsu.lb-product.com
END:VEVENT
END:VCALENDAR
