BEGIN:VCALENDAR
VERSION:2.0
PRODID:-//kyohatsu//JP
CALSCALE:GREGORIAN
BEGIN:VEVENT
DTSTART;VALUE=DATE:20260805
SUMMARY:【楽天ブックス限定抽選特典+楽天ブックス限定先着特典】【クレジットカード決済限定】【イベント対象】花咲く道＜初回限定盤B＞＋＜通常盤＞(楽天ブックス限定プレミアムイベント2部参加権+フォンタブ (ソロ全7種類)(全7種の内、1種ランダム))
DESCRIPTION:ME:I LAPONE GIRLS
UID:2100014949550@kyohatsu.lb-product.com
END:VEVENT
BEGIN:VEVENT
DTSTART;VALUE=DATE:20260805
SUMMARY:花咲く道 (初回限定盤A CD＋DVD)【イベント対象外】
DESCRIPTION:ME:I LAPONE GIRLS
UID:4571487598060@kyohatsu.lb-product.com
END:VEVENT
BEGIN:VEVENT
DTSTART;VALUE=DATE:20260805
SUMMARY:【楽天ブックス限定抽選特典+楽天ブックス限定先着特典】【クレジットカード決済限定】【イベント対象】花咲く道＜初回限定盤A＞＋＜通常盤＞(楽天ブックス限定プレミアムイベント2部参加権+フォンタブ (ソロ全7種類)(全7種の内、1種ランダム))
DESCRIPTION:ME:I LAPONE GIRLS
UID:2100014949543@kyohatsu.lb-product.com
END:VEVENT
BEGIN:VEVENT
DTSTART;VALUE=DATE:20260805
SUMMARY:花咲く道 (初回限定盤B CD＋PAPER CRAFT)【イベント対象外】
DESCRIPTION:ME:I LAPONE GIRLS
UID:4571487598077@kyohatsu.lb-product.com
END:VEVENT
BEGIN:VEVENT
DTSTART;VALUE=DATE:20260805
SUMMARY:【楽天ブックス限定抽選特典+楽天ブックス限定先着特典】【クレジットカード決済限定】【イベント対象】花咲く道＜初回限定盤A＞＋＜通常盤＞(楽天ブックス限定プレミアムイベント1部参加権+フォンタブ (ソロ全7種類)(全7種の内、1種ランダム))
DESCRIPTION:ME:I LAPONE GIRLS
UID:2100014949529@kyohatsu.lb-product.com
END:VEVENT
BEGIN:VEVENT
DTSTART;VALUE=DATE:20260805
SUMMARY:【楽天ブックス限定先着特典】花咲く道＜初回限定盤B＞＋＜通常盤＞【イベント対象外】(フォンタブ (ソロ全7種類)(全7種の内、1種ランダム))
DESCRIPTION:ME:I LAPONE GIRLS
UID:2100014949512@kyohatsu.lb-product.com
END:VEVENT
BEGIN:VEVENT
DTSTART;VALUE=DATE:20260805
SUMMARY:花咲く道 (通常盤)【イベント対象外】
DESCRIPTION:ME:I LAPONE GIRLS
UID:4571487598084@kyohatsu.lb-product.com
END:VEVENT
BEGIN:VEVENT
DTSTART;VALUE=DATE:20260805
SUMMARY:【楽天ブックス限定抽選特典+楽天ブックス限定先着特典】【クレジットカード決済限定】【イベント対象】花咲く道＜初回限定盤B＞＋＜通常盤＞(楽天ブックス限定プレミアムイベント1部参加権+フォンタブ (ソロ全7種類)(全7種の内、1種ランダム))
DESCRIPTION:ME:I LAPONE GIRLS
UID:2100014949536@kyohatsu.lb-product.com
END:VEVENT
BEGIN:VEVENT
DTSTART;VALUE=DATE:20260805
SUMMARY:【楽天ブックス限定先着特典】花咲く道＜初回限定盤A＞＋＜通常盤＞【イベント対象外】(フォンタブ (ソロ全7種類)(全7種の内、1種ランダム))
DESCRIPTION:ME:I LAPONE GIRLS
UID:2100014949505@kyohatsu.lb-product.com
END:VEVENT
END:VCALENDAR
