BEGIN:VCALENDAR
VERSION:2.0
PRODID:-//kyohatsu//JP
CALSCALE:GREGORIAN
BEGIN:VEVENT
DTSTART;VALUE=DATE:20260522
SUMMARY:ノー・シンズ・トゥ・コンフェス
DESCRIPTION:Loanshark (株)ワードレコーズ
UID:4571614703633@kyohatsu.lb-product.com
END:VEVENT
END:VCALENDAR
