BEGIN:VCALENDAR
VERSION:2.0
PRODID:-//kyohatsu//JP
CALSCALE:GREGORIAN
BEGIN:VEVENT
DTSTART;VALUE=DATE:20260610
SUMMARY:【楽天ブックス限定先着特典】一輪 / Pages(A4クリアファイル)
DESCRIPTION:Little Glee Monster (株)ソニー・ミュージックレーベルズ
UID:4547366813401@kyohatsu.lb-product.com
END:VEVENT
BEGIN:VEVENT
DTSTART;VALUE=DATE:20260610
SUMMARY:一輪 / Pages (期間生産限定盤 CD＋Blu-ray)
DESCRIPTION:Little Glee Monster (株)ソニー・ミュージックレーベルズ
UID:4547366813418@kyohatsu.lb-product.com
END:VEVENT
BEGIN:VEVENT
DTSTART;VALUE=DATE:20260610
SUMMARY:一輪 / Pages (初回生産限定盤 CD＋Blu-ray)
DESCRIPTION:Little Glee Monster (株)ソニー・ミュージックレーベルズ
UID:4547366813395@kyohatsu.lb-product.com
END:VEVENT
BEGIN:VEVENT
DTSTART;VALUE=DATE:20260610
SUMMARY:【楽天ブックス限定先着特典】一輪 / Pages (期間生産限定盤 CD＋Blu-ray)(A4クリアファイル)
DESCRIPTION:Little Glee Monster (株)ソニー・ミュージックレーベルズ
UID:2100014954455@kyohatsu.lb-product.com
END:VEVENT
BEGIN:VEVENT
DTSTART;VALUE=DATE:20260610
SUMMARY:【楽天ブックス限定先着特典】一輪 / Pages (初回生産限定盤 CD＋Blu-ray)(A4クリアファイル)
DESCRIPTION:Little Glee Monster (株)ソニー・ミュージックレーベルズ
UID:2100014954448@kyohatsu.lb-product.com
END:VEVENT
END:VCALENDAR
