BEGIN:VCALENDAR
VERSION:2.0
PRODID:-//kyohatsu//JP
CALSCALE:GREGORIAN
BEGIN:VEVENT
DTSTART;VALUE=DATE:20260527
SUMMARY:誓い (完全生産限定盤 CD＋Blu-ray)
DESCRIPTION:Leina (株)ソニー・ミュージックレーベルズ
UID:4547366813722@kyohatsu.lb-product.com
END:VEVENT
BEGIN:VEVENT
DTSTART;VALUE=DATE:20260527
SUMMARY:【楽天ブックス限定先着特典】誓い (完全生産限定盤 CD＋Blu-ray)(オリジナル缶バッジ)
DESCRIPTION:Leina (株)ソニー・ミュージックレーベルズ
UID:2100014946306@kyohatsu.lb-product.com
END:VEVENT
END:VCALENDAR
