BEGIN:VCALENDAR
VERSION:2.0
PRODID:-//kyohatsu//JP
CALSCALE:GREGORIAN
BEGIN:VEVENT
DTSTART;VALUE=DATE:20260729
SUMMARY:LINKL PLANET 7th Single「タイトル未定」 【プラモパッケージスタイル限定盤 CD＋Blu-ray】
DESCRIPTION:LINKL PLANET (株)バンダイナムコミュージックライブ
UID:4540774650224@kyohatsu.lb-product.com
END:VEVENT
BEGIN:VEVENT
DTSTART;VALUE=DATE:20260729
SUMMARY:【先着特典】LINKL PLANET 7th Single「タイトル未定」【初回限定盤】(複製サイン入り2L判ブロマイド(全1種))
DESCRIPTION:LINKL PLANET (株)バンダイナムコミュージックライブ
UID:4540774650248@kyohatsu.lb-product.com
END:VEVENT
BEGIN:VEVENT
DTSTART;VALUE=DATE:20260729
SUMMARY:【先着特典】LINKL PLANET 7th Single「タイトル未定」【通常盤】(複製サイン入り2L判ブロマイド(全1種))
DESCRIPTION:LINKL PLANET (株)バンダイナムコミュージックライブ
UID:4540774650255@kyohatsu.lb-product.com
END:VEVENT
BEGIN:VEVENT
DTSTART;VALUE=DATE:20260729
SUMMARY:【先着特典】LINKL PLANET 7th Single「タイトル未定」 【プラモパッケージスタイル限定盤 CD＋Blu-ray】(複製サイン入り2L判ブロマイド(全1種))
DESCRIPTION:LINKL PLANET (株)バンダイナムコミュージックライブ
UID:2100014936581@kyohatsu.lb-product.com
END:VEVENT
END:VCALENDAR
