BEGIN:VCALENDAR
VERSION:2.0
PRODID:-//kyohatsu//JP
CALSCALE:GREGORIAN
BEGIN:VEVENT
DTSTART;VALUE=DATE:20260603
SUMMARY:【先着特典】Still Romance (Standard Edition)(”Still Romance” Original Sticker Standard Ver.)
DESCRIPTION:LET ME KNOW SLIDE SUNSET
UID:4988031872482@kyohatsu.lb-product.com
END:VEVENT
BEGIN:VEVENT
DTSTART;VALUE=DATE:20260603
SUMMARY:【先着特典】Still Romance (Special Romance Edition)(”Still Romance” Original Sticker Standard Ver.)
DESCRIPTION:LET ME KNOW SLIDE SUNSET
UID:4988031872475@kyohatsu.lb-product.com
END:VEVENT
END:VCALENDAR
