BEGIN:VCALENDAR
VERSION:2.0
PRODID:-//kyohatsu//JP
CALSCALE:GREGORIAN
BEGIN:VEVENT
DTSTART;VALUE=DATE:20260523
SUMMARY:【輸入盤】2NDスタジオ・アルバム：ピュアフロー・PT．1
DESCRIPTION:LE SSERAFIM 
UID:8800365019684@kyohatsu.lb-product.com
END:VEVENT
BEGIN:VEVENT
DTSTART;VALUE=DATE:20260523
SUMMARY:【輸入盤】2NDスタジオ・アルバム：ピュアフロー・PT．1（コンパクト・ヴァージョン）
DESCRIPTION:LE SSERAFIM 
UID:8800365019691@kyohatsu.lb-product.com
END:VEVENT
BEGIN:VEVENT
DTSTART;VALUE=DATE:20260527
SUMMARY:'PUREFLOW' pt.1: LE SSERAFIM Vol.2 (Weverse Albums ver.)(ランダムバージョン) ＜完全数量限定生産盤＞ ［ミュージックカード］（KOR）
DESCRIPTION:LE SSERAFIM 
UID:8800365019707@kyohatsu.lb-product.com
END:VEVENT
END:VCALENDAR
