BEGIN:VCALENDAR
VERSION:2.0
PRODID:-//kyohatsu//JP
CALSCALE:GREGORIAN
BEGIN:VEVENT
DTSTART;VALUE=DATE:20260715
SUMMARY:幕開
DESCRIPTION:LACCO TOWER I ROCKS
UID:4580717706502@kyohatsu.lb-product.com
END:VEVENT
BEGIN:VEVENT
DTSTART;VALUE=DATE:20260715
SUMMARY:幕開
DESCRIPTION:LACCO TOWER I ROCKS
UID:4580717706519@kyohatsu.lb-product.com
END:VEVENT
END:VCALENDAR
