BEGIN:VCALENDAR
VERSION:2.0
PRODID:-//kyohatsu//JP
CALSCALE:GREGORIAN
BEGIN:VEVENT
DTSTART;VALUE=DATE:20260819
SUMMARY:【楽天ブックス限定先着特典+早期予約特典】18TRIP Cassette #13 'Funny day' -L4mps-【カセット】(アクリルキーホルダー (約50mm×60mmサイズ予定)+応募用シリアルナンバー)
DESCRIPTION:L4mps [蜂乃屋 凪(CV:坂田 将吾)，白光 糖衣(CV:榊原 優希)，白光 琉衣(CV:小松 昌平)，棗 夜鷹(CV:光富 崇雄)，夜半 子タろ(CV:堀江 瞬)] (株)ポニーキャニオン
UID:2100014541846@kyohatsu.lb-product.com
END:VEVENT
END:VCALENDAR
