BEGIN:VCALENDAR
VERSION:2.0
PRODID:-//kyohatsu//JP
CALSCALE:GREGORIAN
BEGIN:VEVENT
DTSTART;VALUE=DATE:20260716
SUMMARY:ARENA TOUR 2024 UNDERGROUND【Blu-ray】
DESCRIPTION:L'Arc-en-Ciel マーヴェリック・ディー・シー(株)
UID:4595058201074@kyohatsu.lb-product.com
END:VEVENT
BEGIN:VEVENT
DTSTART;VALUE=DATE:20260716
SUMMARY:ARENA TOUR 2024 UNDERGROUND
DESCRIPTION:L'Arc-en-Ciel マーヴェリック・ディー・シー(株)
UID:4595058201081@kyohatsu.lb-product.com
END:VEVENT
BEGIN:VEVENT
DTSTART;VALUE=DATE:20260716
SUMMARY:【楽天ブックス限定先着特典】ARENA TOUR 2024 UNDERGROUND【Blu-ray】(2連アクリルキーホルダー)
DESCRIPTION:L'Arc-en-Ciel マーヴェリック・ディー・シー(株)
UID:2100014959382@kyohatsu.lb-product.com
END:VEVENT
BEGIN:VEVENT
DTSTART;VALUE=DATE:20260716
SUMMARY:【楽天ブックス限定先着特典】ARENA TOUR 2024 UNDERGROUND(2連アクリルキーホルダー)
DESCRIPTION:L'Arc-en-Ciel マーヴェリック・ディー・シー(株)
UID:2100014959399@kyohatsu.lb-product.com
END:VEVENT
END:VCALENDAR
