BEGIN:VCALENDAR
VERSION:2.0
PRODID:-//kyohatsu//JP
CALSCALE:GREGORIAN
BEGIN:VEVENT
DTSTART;VALUE=DATE:20260624
SUMMARY:【先着特典】King & Prince DOME TOUR 2026 〜STARRING〜(通常盤DVD)(トレーディングカード3種セット)
DESCRIPTION:King & Prince ユニバーサルミュージック
UID:2100014957746@kyohatsu.lb-product.com
END:VEVENT
BEGIN:VEVENT
DTSTART;VALUE=DATE:20260624
SUMMARY:【先着特典】King & Prince DOME TOUR 2026 〜STARRING〜(通常盤Blu-ray)【Blu-ray】(トレーディングカード3種セット)
DESCRIPTION:King & Prince ユニバーサルミュージック
UID:2100014957722@kyohatsu.lb-product.com
END:VEVENT
BEGIN:VEVENT
DTSTART;VALUE=DATE:20260624
SUMMARY:King & Prince DOME TOUR 2026 〜STARRING〜(初回限定盤Blu-ray)【Blu-ray】
DESCRIPTION:King & Prince ユニバーサルミュージック
UID:4988031873212@kyohatsu.lb-product.com
END:VEVENT
BEGIN:VEVENT
DTSTART;VALUE=DATE:20260624
SUMMARY:King & Prince DOME TOUR 2026 〜STARRING〜(初回限定盤DVD)
DESCRIPTION:King & Prince ユニバーサルミュージック
UID:4988031873229@kyohatsu.lb-product.com
END:VEVENT
BEGIN:VEVENT
DTSTART;VALUE=DATE:20260624
SUMMARY:【先着特典】King & Prince DOME TOUR 2026 〜STARRING〜(初回限定盤＋通常盤 DVDセット)(キラキラポスター(A4サイズ）＋トレーディングカード3種セット)
DESCRIPTION:King & Prince ユニバーサルミュージック
UID:2100014957760@kyohatsu.lb-product.com
END:VEVENT
BEGIN:VEVENT
DTSTART;VALUE=DATE:20260624
SUMMARY:King & Prince DOME TOUR 2026 〜STARRING〜(通常盤Blu-ray)【Blu-ray】
DESCRIPTION:King & Prince ユニバーサルミュージック
UID:4988031873236@kyohatsu.lb-product.com
END:VEVENT
BEGIN:VEVENT
DTSTART;VALUE=DATE:20260624
SUMMARY:【先着特典】King & Prince DOME TOUR 2026 〜STARRING〜(初回限定盤DVD)(キラキラポスター(A4サイズ）)
DESCRIPTION:King & Prince ユニバーサルミュージック
UID:2100014957739@kyohatsu.lb-product.com
END:VEVENT
BEGIN:VEVENT
DTSTART;VALUE=DATE:20260624
SUMMARY:【先着特典】King & Prince DOME TOUR 2026 〜STARRING〜(初回限定盤＋通常盤 Blu-rayセット)【Blu-ray】(キラキラポスター(A4サイズ）＋トレーディングカード3種セット)
DESCRIPTION:King & Prince ユニバーサルミュージック
UID:2100014957753@kyohatsu.lb-product.com
END:VEVENT
BEGIN:VEVENT
DTSTART;VALUE=DATE:20260624
SUMMARY:King & Prince DOME TOUR 2026 〜STARRING〜(通常盤DVD)
DESCRIPTION:King & Prince ユニバーサルミュージック
UID:4988031873243@kyohatsu.lb-product.com
END:VEVENT
BEGIN:VEVENT
DTSTART;VALUE=DATE:20260624
SUMMARY:【先着特典】King & Prince DOME TOUR 2026 〜STARRING〜(初回限定盤Blu-ray)【Blu-ray】(キラキラポスター(A4サイズ）)
DESCRIPTION:King & Prince ユニバーサルミュージック
UID:2100014957715@kyohatsu.lb-product.com
END:VEVENT
END:VCALENDAR
