BEGIN:VCALENDAR
VERSION:2.0
PRODID:-//kyohatsu//JP
CALSCALE:GREGORIAN
BEGIN:VEVENT
DTSTART;VALUE=DATE:20260529
SUMMARY:【輸入盤】フィラデルフィアズ・ビーン・グッド・トゥ・ミー
DESCRIPTION:KURT VILE 
UID:0199957376921@kyohatsu.lb-product.com
END:VEVENT
END:VCALENDAR
