BEGIN:VCALENDAR
VERSION:2.0
PRODID:-//kyohatsu//JP
CALSCALE:GREGORIAN
BEGIN:VEVENT
DTSTART;VALUE=DATE:20260619
SUMMARY:【輸入盤】ディファレント・シェイド・オブ・ブルー（エレクトリック・スモーク）（アナログ盤）
DESCRIPTION:KNOCKED LOOSE 
UID:0810540039138@kyohatsu.lb-product.com
END:VEVENT
END:VCALENDAR
