BEGIN:VCALENDAR
VERSION:2.0
PRODID:-//kyohatsu//JP
CALSCALE:GREGORIAN
BEGIN:VEVENT
DTSTART;VALUE=DATE:20260529
SUMMARY:WHEN A STAR FALLS
DESCRIPTION:KNIM Wormholedeath Japan
UID:4562275585492@kyohatsu.lb-product.com
END:VEVENT
END:VCALENDAR
