BEGIN:VCALENDAR
VERSION:2.0
PRODID:-//kyohatsu//JP
CALSCALE:GREGORIAN
BEGIN:VEVENT
DTSTART;VALUE=DATE:20260617
SUMMARY:【楽天ブックス限定先着特典】KIDS00's (完全生産限定盤PHOTO Ver. CD＋フォトブック)(オリジナルコンパクトミラー(各メンバーソロ7種からランダム1種))
DESCRIPTION:KID PHENOMENON from EXILE TRIBE 
UID:4547366817461@kyohatsu.lb-product.com
END:VEVENT
BEGIN:VEVENT
DTSTART;VALUE=DATE:20260617
SUMMARY:【楽天ブックス限定先着特典】KIDS00's(オリジナルコンパクトミラー(各メンバーソロ7種からランダム1種))
DESCRIPTION:KID PHENOMENON from EXILE TRIBE 
UID:4547366817485@kyohatsu.lb-product.com
END:VEVENT
BEGIN:VEVENT
DTSTART;VALUE=DATE:20260617
SUMMARY:KIDS00's (完全生産限定盤MOVIE Ver. CD＋Blu-ray)
DESCRIPTION:KID PHENOMENON from EXILE TRIBE 
UID:4547366817478@kyohatsu.lb-product.com
END:VEVENT
BEGIN:VEVENT
DTSTART;VALUE=DATE:20260617
SUMMARY:【楽天ブックス限定先着特典】KIDS00's (完全生産限定盤MOVIE Ver. CD＋Blu-ray)(オリジナルコンパクトミラー(各メンバーソロ7種からランダム1種))
DESCRIPTION:KID PHENOMENON from EXILE TRIBE 
UID:2100014962535@kyohatsu.lb-product.com
END:VEVENT
END:VCALENDAR
