BEGIN:VCALENDAR
VERSION:2.0
PRODID:-//kyohatsu//JP
CALSCALE:GREGORIAN
BEGIN:VEVENT
DTSTART;VALUE=DATE:20260515
SUMMARY:現代最強の魔術師・白虎夜虎2〜呪殺率が高すぎる世界で、転生者の俺は死にたくないから死ぬほど鍛えて呪いを祓う。気づけば五大貴族の令嬢達が花嫁競争《ヒロインレース》を始めました〜
DESCRIPTION:KAZU TOブックス
UID:9784868540052@kyohatsu.lb-product.com
END:VEVENT
END:VCALENDAR
