BEGIN:VCALENDAR
VERSION:2.0
PRODID:-//kyohatsu//JP
CALSCALE:GREGORIAN
BEGIN:VEVENT
DTSTART;VALUE=DATE:20260624
SUMMARY:【楽天ブックス限定先着特典】ハローグッバイ (初回生産限定盤 CD＋Blu-ray)(オリジナルポストカード)
DESCRIPTION:Junna 
UID:2100014959108@kyohatsu.lb-product.com
END:VEVENT
BEGIN:VEVENT
DTSTART;VALUE=DATE:20260624
SUMMARY:ハローグッバイ (初回生産限定盤 CD＋Blu-ray)
DESCRIPTION:Junna (株)ソニー・ミュージックレーベルズ
UID:4547366821062@kyohatsu.lb-product.com
END:VEVENT
BEGIN:VEVENT
DTSTART;VALUE=DATE:20260624
SUMMARY:【楽天ブックス限定先着特典】ハローグッバイ(オリジナルポストカード)
DESCRIPTION:Junna (株)ソニー・ミュージックレーベルズ
UID:4547366821079@kyohatsu.lb-product.com
END:VEVENT
END:VCALENDAR
