BEGIN:VCALENDAR
VERSION:2.0
PRODID:-//kyohatsu//JP
CALSCALE:GREGORIAN
BEGIN:VEVENT
DTSTART;VALUE=DATE:20260527
SUMMARY:にゃんとかなるさ
DESCRIPTION:Jam 笠間書院
UID:9784305710796@kyohatsu.lb-product.com
END:VEVENT
END:VCALENDAR
