BEGIN:VCALENDAR
VERSION:2.0
PRODID:-//kyohatsu//JP
CALSCALE:GREGORIAN
BEGIN:VEVENT
DTSTART;VALUE=DATE:20260522
SUMMARY:【輸入盤】ピンク・ギターズ・スペースシップス・ン・ヴードゥー・ドールズ（ブラック）（アナログ盤）
DESCRIPTION:JUJU ROGERS 
UID:0885150725382@kyohatsu.lb-product.com
END:VEVENT
END:VCALENDAR
