BEGIN:VCALENDAR
VERSION:2.0
PRODID:-//kyohatsu//JP
CALSCALE:GREGORIAN
BEGIN:VEVENT
DTSTART;VALUE=DATE:20260529
SUMMARY:【輸入盤】パラマウント・カルテット
DESCRIPTION:JOE LOVANO JULIAN LAGE ASANTE SANTI DEBRIANO WILL CALHOUN 
UID:0602478517914@kyohatsu.lb-product.com
END:VEVENT
END:VCALENDAR
