BEGIN:VCALENDAR
VERSION:2.0
PRODID:-//kyohatsu//JP
CALSCALE:GREGORIAN
BEGIN:VEVENT
DTSTART;VALUE=DATE:20260527
SUMMARY:【楽天ブックス限定先着特典】LUCID DREAM (期間生産限定盤)(A4クリアポスター(ソロ6種ランダム))
DESCRIPTION:IVE (株)ソニー・ミュージックレーベルズ
UID:4547366813906@kyohatsu.lb-product.com
END:VEVENT
BEGIN:VEVENT
DTSTART;VALUE=DATE:20260527
SUMMARY:【楽天ブックス限定先着特典】LUCID DREAM (メンバーソロジャケット盤 (REI ver.))(A4クリアポスター(ソロ6種ランダム))
DESCRIPTION:IVE (株)ソニー・ミュージックレーベルズ
UID:4547366813869@kyohatsu.lb-product.com
END:VEVENT
BEGIN:VEVENT
DTSTART;VALUE=DATE:20260527
SUMMARY:【楽天ブックス限定先着特典】LUCID DREAM (初回生産限定盤I CD＋Blu-ray)(A4クリアポスター(ソロ6種ランダム))
DESCRIPTION:IVE (株)ソニー・ミュージックレーベルズ
UID:2100014915425@kyohatsu.lb-product.com
END:VEVENT
BEGIN:VEVENT
DTSTART;VALUE=DATE:20260527
SUMMARY:【楽天ブックス限定先着特典】LUCID DREAM (メンバーソロジャケット盤 (WONYOUNG ver.))(A4クリアポスター(ソロ6種ランダム))
DESCRIPTION:IVE (株)ソニー・ミュージックレーベルズ
UID:4547366813876@kyohatsu.lb-product.com
END:VEVENT
BEGIN:VEVENT
DTSTART;VALUE=DATE:20260527
SUMMARY:【楽天ブックス限定先着特典】LUCID DREAM (メンバーソロジャケット盤 (LIZ ver.))(A4クリアポスター(ソロ6種ランダム))
DESCRIPTION:IVE (株)ソニー・ミュージックレーベルズ
UID:4547366813883@kyohatsu.lb-product.com
END:VEVENT
BEGIN:VEVENT
DTSTART;VALUE=DATE:20260527
SUMMARY:【楽天ブックス限定先着特典】LUCID DREAM (初回生産限定盤V CD＋PHOTOBOOK)(A4クリアポスター(ソロ6種ランダム))
DESCRIPTION:IVE (株)ソニー・ミュージックレーベルズ
UID:4547366813814@kyohatsu.lb-product.com
END:VEVENT
BEGIN:VEVENT
DTSTART;VALUE=DATE:20260527
SUMMARY:【楽天ブックス限定先着特典】LUCID DREAM (メンバーソロジャケット盤 (YUJIN ver.))(A4クリアポスター(ソロ6種ランダム))
DESCRIPTION:IVE (株)ソニー・ミュージックレーベルズ
UID:4547366813845@kyohatsu.lb-product.com
END:VEVENT
BEGIN:VEVENT
DTSTART;VALUE=DATE:20260527
SUMMARY:【楽天ブックス限定同時購入特典+楽天ブックス限定先着特典】LUCID DREAM (初回盤I (Blu-ray)＋初回盤V＋初回盤E＋通常盤セット)(A4クリアファイル(集合1種)+A4クリアポスター(ソロ6種ランダム)×4)
DESCRIPTION:IVE (株)ソニー・ミュージックレーベルズ
UID:2100014915432@kyohatsu.lb-product.com
END:VEVENT
BEGIN:VEVENT
DTSTART;VALUE=DATE:20260527
SUMMARY:【楽天ブックス限定先着特典】LUCID DREAM (通常盤)(A4クリアポスター(ソロ6種ランダム))
DESCRIPTION:IVE (株)ソニー・ミュージックレーベルズ
UID:4547366813838@kyohatsu.lb-product.com
END:VEVENT
BEGIN:VEVENT
DTSTART;VALUE=DATE:20260527
SUMMARY:LUCID DREAM (初回生産限定盤I CD＋Blu-ray)
DESCRIPTION:IVE (株)ソニー・ミュージックレーベルズ
UID:4547366813807@kyohatsu.lb-product.com
END:VEVENT
BEGIN:VEVENT
DTSTART;VALUE=DATE:20260527
SUMMARY:【楽天ブックス限定先着特典】LUCID DREAM (メンバーソロジャケット盤 (LEESEO ver.))(A4クリアポスター(ソロ6種ランダム))
DESCRIPTION:IVE (株)ソニー・ミュージックレーベルズ
UID:4547366813890@kyohatsu.lb-product.com
END:VEVENT
BEGIN:VEVENT
DTSTART;VALUE=DATE:20260527
SUMMARY:【楽天ブックス限定先着特典】LUCID DREAM (初回生産限定盤E CD＋PHOTOBOOK)(A4クリアポスター(ソロ6種ランダム))
DESCRIPTION:IVE (株)ソニー・ミュージックレーベルズ
UID:4547366813821@kyohatsu.lb-product.com
END:VEVENT
BEGIN:VEVENT
DTSTART;VALUE=DATE:20260527
SUMMARY:【楽天ブックス限定先着特典】LUCID DREAM (メンバーソロジャケット盤 (GAEUL ver.))(A4クリアポスター(ソロ6種ランダム))
DESCRIPTION:IVE (株)ソニー・ミュージックレーベルズ
UID:4547366813852@kyohatsu.lb-product.com
END:VEVENT
END:VCALENDAR
