BEGIN:VCALENDAR
VERSION:2.0
PRODID:-//kyohatsu//JP
CALSCALE:GREGORIAN
BEGIN:VEVENT
DTSTART;VALUE=DATE:20260605
SUMMARY:【輸入盤】フライ（ライヴ）（アナログ盤）
DESCRIPTION:INGEBRIGT HAKER FLATEN (EXIT) KNARR 
UID:7090060760870@kyohatsu.lb-product.com
END:VEVENT
BEGIN:VEVENT
DTSTART;VALUE=DATE:20260605
SUMMARY:【輸入盤】フライ（ライヴ）
DESCRIPTION:INGEBRIGT HAKER FLATEN (EXIT) KNARR 
UID:7090060760863@kyohatsu.lb-product.com
END:VEVENT
END:VCALENDAR
