BEGIN:VCALENDAR
VERSION:2.0
PRODID:-//kyohatsu//JP
CALSCALE:GREGORIAN
BEGIN:VEVENT
DTSTART;VALUE=DATE:20260612
SUMMARY:Demand to Be Taken to Heaven Alive!
DESCRIPTION:Horse Lords Plancha
UID:4582561407307@kyohatsu.lb-product.com
END:VEVENT
END:VCALENDAR
