BEGIN:VCALENDAR
VERSION:2.0
PRODID:-//kyohatsu//JP
CALSCALE:GREGORIAN
BEGIN:VEVENT
DTSTART;VALUE=DATE:20260626
SUMMARY:7th　Anniversary　Live　2025『Seventh　Heaven』（通常盤）（Blu-ray　Disc）【Blu-ray】
DESCRIPTION:HIMEHINA 
UID:4573650290955@kyohatsu.lb-product.com
END:VEVENT
END:VCALENDAR
