BEGIN:VCALENDAR
VERSION:2.0
PRODID:-//kyohatsu//JP
CALSCALE:GREGORIAN
BEGIN:VEVENT
DTSTART;VALUE=DATE:20260624
SUMMARY:【楽天ブックス限定先着特典】Seven Blooms (MV盤 CD＋Blu-ray)(コンパクトミラー(※メンバー別絵柄全7種よりランダム))
DESCRIPTION:Girls2 
UID:2100014963020@kyohatsu.lb-product.com
END:VEVENT
BEGIN:VEVENT
DTSTART;VALUE=DATE:20260624
SUMMARY:Seven Blooms (MV盤 CD＋DVD)
DESCRIPTION:Girls2 エイベックス・ミュージック・クリエイティヴ(株)
UID:4988064676194@kyohatsu.lb-product.com
END:VEVENT
BEGIN:VEVENT
DTSTART;VALUE=DATE:20260624
SUMMARY:Seven Blooms (初回生産限定(豪華盤) CD＋Blu-ray)
DESCRIPTION:Girls2 エイベックス・ミュージック・クリエイティヴ(株)
UID:4988064676187@kyohatsu.lb-product.com
END:VEVENT
BEGIN:VEVENT
DTSTART;VALUE=DATE:20260624
SUMMARY:【楽天ブックス限定先着特典】Seven Blooms (MV盤 CD＋DVD)(コンパクトミラー(※メンバー別絵柄全7種よりランダム))
DESCRIPTION:Girls2 
UID:2100014963013@kyohatsu.lb-product.com
END:VEVENT
BEGIN:VEVENT
DTSTART;VALUE=DATE:20260624
SUMMARY:Seven Blooms (MV盤 CD＋Blu-ray)
DESCRIPTION:Girls2 エイベックス・ミュージック・クリエイティヴ(株)
UID:4988064676200@kyohatsu.lb-product.com
END:VEVENT
BEGIN:VEVENT
DTSTART;VALUE=DATE:20260624
SUMMARY:【楽天ブックス限定先着特典】Seven Blooms (初回生産限定(豪華盤) CD＋DVD)(コンパクトミラー(※メンバー別絵柄全7種よりランダム))
DESCRIPTION:Girls2 
UID:2100014962993@kyohatsu.lb-product.com
END:VEVENT
BEGIN:VEVENT
DTSTART;VALUE=DATE:20260624
SUMMARY:【楽天ブックス限定先着特典】Seven Blooms (初回生産限定(豪華盤) CD＋Blu-ray)(コンパクトミラー(※メンバー別絵柄全7種よりランダム))
DESCRIPTION:Girls2 
UID:2100014963006@kyohatsu.lb-product.com
END:VEVENT
BEGIN:VEVENT
DTSTART;VALUE=DATE:20260624
SUMMARY:Seven Blooms (初回生産限定(豪華盤) CD＋DVD)
DESCRIPTION:Girls2 エイベックス・ミュージック・クリエイティヴ(株)
UID:4988064676170@kyohatsu.lb-product.com
END:VEVENT
BEGIN:VEVENT
DTSTART;VALUE=DATE:20260624
SUMMARY:【楽天ブックス限定先着特典】Seven Blooms (CD ONLY)(コンパクトミラー(※メンバー別絵柄全7種よりランダム))
DESCRIPTION:Girls2 エイベックス・ミュージック・クリエイティヴ(株)
UID:4988064676217@kyohatsu.lb-product.com
END:VEVENT
END:VCALENDAR
