BEGIN:VCALENDAR
VERSION:2.0
PRODID:-//kyohatsu//JP
CALSCALE:GREGORIAN
BEGIN:VEVENT
DTSTART;VALUE=DATE:20260529
SUMMARY:Movement【アナログ盤】
DESCRIPTION:Gigi Masin SACRED BONES RECORDS
UID:4526180758396@kyohatsu.lb-product.com
END:VEVENT
END:VCALENDAR
