BEGIN:VCALENDAR
VERSION:2.0
PRODID:-//kyohatsu//JP
CALSCALE:GREGORIAN
BEGIN:VEVENT
DTSTART;VALUE=DATE:20260612
SUMMARY:【輸入盤】シグナル・ファイア（ブルー）（アナログ盤）
DESCRIPTION:GENGHIS TRON 
UID:0781676763917@kyohatsu.lb-product.com
END:VEVENT
BEGIN:VEVENT
DTSTART;VALUE=DATE:20260612
SUMMARY:【輸入盤】シグナル・ファイア
DESCRIPTION:GENGHIS TRON 
UID:0781676763924@kyohatsu.lb-product.com
END:VEVENT
END:VCALENDAR
