BEGIN:VCALENDAR
VERSION:2.0
PRODID:-//kyohatsu//JP
CALSCALE:GREGORIAN
BEGIN:VEVENT
DTSTART;VALUE=DATE:20260729
SUMMARY:【楽天ブックス限定先着特典】Circusm(初回限定盤)(内容未定)
DESCRIPTION:Fukase ユニバーサルミュージック
UID:4988031837108@kyohatsu.lb-product.com
END:VEVENT
BEGIN:VEVENT
DTSTART;VALUE=DATE:20260729
SUMMARY:【楽天ブックス限定先着特典】Circusm(通常盤)(内容未定)
DESCRIPTION:Fukase ユニバーサルミュージック
UID:4988031837115@kyohatsu.lb-product.com
END:VEVENT
END:VCALENDAR
