BEGIN:VCALENDAR
VERSION:2.0
PRODID:-//kyohatsu//JP
CALSCALE:GREGORIAN
BEGIN:VEVENT
DTSTART;VALUE=DATE:20260715
SUMMARY:【楽天ブックス限定先着特典】タイトル未定 (通常盤)(月足天音 生写真1枚(全5種からランダム1種お渡し))
DESCRIPTION:FRUITS ZIPPER アソビミュージック
UID:4582467324227@kyohatsu.lb-product.com
END:VEVENT
BEGIN:VEVENT
DTSTART;VALUE=DATE:20260715
SUMMARY:【楽天ブックス限定先着特典】タイトル未定 (初回限定盤)(月足天音 デジタルサイン入りA4ミニポスター)
DESCRIPTION:FRUITS ZIPPER アソビミュージック
UID:4582467324203@kyohatsu.lb-product.com
END:VEVENT
BEGIN:VEVENT
DTSTART;VALUE=DATE:20260715
SUMMARY:【楽天ブックス限定先着特典】タイトル未定 (FRUITS ZIPPER盤)(月足天音 生写真1枚(全5種からランダム1種お渡し))
DESCRIPTION:FRUITS ZIPPER アソビミュージック
UID:4582467324210@kyohatsu.lb-product.com
END:VEVENT
END:VCALENDAR
