BEGIN:VCALENDAR
VERSION:2.0
PRODID:-//kyohatsu//JP
CALSCALE:GREGORIAN
BEGIN:VEVENT
DTSTART;VALUE=DATE:20260715
SUMMARY:【楽天ブックス限定先着特典+早期予約特典】18TRIP Cassette #12 'Funny day' -Ev3ns-【カセット】(アクリルキーホルダー (約50mm×60mmサイズ予定)+応募用シリアルナンバー)
DESCRIPTION:Ev3ns [北片 來人(CV:石谷 春貴)，畔川 幾成(CV:堀金 蒼平)，夏焼 千弥(CV:梅田 修一朗)，木ノ内 太緒(CV:寺島 惇太)，百目鬼 潜(CV:矢田 悠祐)] (株)ポニーキャニオン
UID:2100014541839@kyohatsu.lb-product.com
END:VEVENT
END:VCALENDAR
