BEGIN:VCALENDAR
VERSION:2.0
PRODID:-//kyohatsu//JP
CALSCALE:GREGORIAN
BEGIN:VEVENT
DTSTART;VALUE=DATE:20260610
SUMMARY:【先着特典】In Your Trust(夜風とチルする Emerald アクリルキーホルダー)
DESCRIPTION:Emerald 
UID:4522197166278@kyohatsu.lb-product.com
END:VEVENT
END:VCALENDAR
