BEGIN:VCALENDAR
VERSION:2.0
PRODID:-//kyohatsu//JP
CALSCALE:GREGORIAN
BEGIN:VEVENT
DTSTART;VALUE=DATE:20260511
SUMMARY:ツインレイたちの覚醒バイブル
DESCRIPTION:Earth Drops Suiren Lumiere つむぎ書房
UID:9784434379161@kyohatsu.lb-product.com
END:VEVENT
END:VCALENDAR
