BEGIN:VCALENDAR
VERSION:2.0
PRODID:-//kyohatsu//JP
CALSCALE:GREGORIAN
BEGIN:VEVENT
DTSTART;VALUE=DATE:20260722
SUMMARY:三三三 (Sanmai)
DESCRIPTION:EVISBEATS & Nagipan AMIDA STUDIO
UID:4526180737681@kyohatsu.lb-product.com
END:VEVENT
BEGIN:VEVENT
DTSTART;VALUE=DATE:20260722
SUMMARY:三三三 (Sanmai)【アナログ盤】
DESCRIPTION:EVISBEATS & Nagipan AMIDA STUDIO
UID:4526180737704@kyohatsu.lb-product.com
END:VEVENT
BEGIN:VEVENT
DTSTART;VALUE=DATE:20260722
SUMMARY:三三三 (Sanmai)【カセット】
DESCRIPTION:EVISBEATS & Nagipan AMIDA STUDIO
UID:4526180737698@kyohatsu.lb-product.com
END:VEVENT
END:VCALENDAR
