BEGIN:VCALENDAR
VERSION:2.0
PRODID:-//kyohatsu//JP
CALSCALE:GREGORIAN
BEGIN:VEVENT
DTSTART;VALUE=DATE:20260708
SUMMARY:RIVIERA【完全生産限定アナログ盤】
DESCRIPTION:EGO-WRAPPIN' (株)トイズファクトリー
UID:4988061381428@kyohatsu.lb-product.com
END:VEVENT
END:VCALENDAR
