BEGIN:VCALENDAR
VERSION:2.0
PRODID:-//kyohatsu//JP
CALSCALE:GREGORIAN
BEGIN:VEVENT
DTSTART;VALUE=DATE:20260811
SUMMARY:【楽天ブックス限定先着特典】Yes! 東京 (15形態セット(全形態))(スマホサイズステッカー10枚(60種ランダム))
DESCRIPTION:EBiDAN(恵比寿学園男子部) (株)SDR
UID:2100014936543@kyohatsu.lb-product.com
END:VEVENT
BEGIN:VEVENT
DTSTART;VALUE=DATE:20260811
SUMMARY:Yes! 東京 (初回限定SUPER★DRAGON盤)
DESCRIPTION:EBiDAN(恵比寿学園男子部) (株)SDR
UID:4582795384214@kyohatsu.lb-product.com
END:VEVENT
BEGIN:VEVENT
DTSTART;VALUE=DATE:20260811
SUMMARY:Yes! 東京 (15周年盤E)
DESCRIPTION:EBiDAN(恵比寿学園男子部) (株)SDR
UID:4582795384320@kyohatsu.lb-product.com
END:VEVENT
BEGIN:VEVENT
DTSTART;VALUE=DATE:20260811
SUMMARY:Yes! 東京 (初回限定Sakurashimeji盤)
DESCRIPTION:EBiDAN(恵比寿学園男子部) (株)SDR
UID:4582795384221@kyohatsu.lb-product.com
END:VEVENT
BEGIN:VEVENT
DTSTART;VALUE=DATE:20260811
SUMMARY:Yes! 東京 (通常盤)
DESCRIPTION:EBiDAN(恵比寿学園男子部) (株)SDR
UID:4582795384184@kyohatsu.lb-product.com
END:VEVENT
BEGIN:VEVENT
DTSTART;VALUE=DATE:20260811
SUMMARY:Yes! 東京 (15周年盤B)
DESCRIPTION:EBiDAN(恵比寿学園男子部) (株)SDR
UID:4582795384290@kyohatsu.lb-product.com
END:VEVENT
BEGIN:VEVENT
DTSTART;VALUE=DATE:20260811
SUMMARY:【楽天ブックス限定先着特典】Yes! 東京 (10形態セット(通常盤＋初回限定グループ盤各1枚))(スマホサイズステッカー5枚(60種ランダム))
DESCRIPTION:EBiDAN(恵比寿学園男子部) (株)SDR
UID:2100014936536@kyohatsu.lb-product.com
END:VEVENT
BEGIN:VEVENT
DTSTART;VALUE=DATE:20260811
SUMMARY:Yes! 東京 (初回限定BUDDiiS盤)
DESCRIPTION:EBiDAN(恵比寿学園男子部) (株)SDR
UID:4582795384252@kyohatsu.lb-product.com
END:VEVENT
BEGIN:VEVENT
DTSTART;VALUE=DATE:20260811
SUMMARY:【先着特典】【クレジットカード決済限定】【シリアル対象】Yes! 東京 (初回限定超特急盤)(シリアルナンバー)
DESCRIPTION:EBiDAN(恵比寿学園男子部) (株)SDR
UID:2100014936727@kyohatsu.lb-product.com
END:VEVENT
BEGIN:VEVENT
DTSTART;VALUE=DATE:20260811
SUMMARY:Yes! 東京 (初回限定M!LK盤)
DESCRIPTION:EBiDAN(恵比寿学園男子部) (株)SDR
UID:4582795384207@kyohatsu.lb-product.com
END:VEVENT
BEGIN:VEVENT
DTSTART;VALUE=DATE:20260811
SUMMARY:Yes! 東京 (初回限定超特急盤)
DESCRIPTION:EBiDAN(恵比寿学園男子部) (株)SDR
UID:4582795384191@kyohatsu.lb-product.com
END:VEVENT
BEGIN:VEVENT
DTSTART;VALUE=DATE:20260811
SUMMARY:Yes! 東京 (15周年盤C)
DESCRIPTION:EBiDAN(恵比寿学園男子部) (株)SDR
UID:4582795384306@kyohatsu.lb-product.com
END:VEVENT
BEGIN:VEVENT
DTSTART;VALUE=DATE:20260811
SUMMARY:【楽天ブックス限定先着特典】Yes! 東京 (5形態セット(15周年盤A＋B＋C＋D＋E))(スマホサイズステッカー2枚(60種ランダム))
DESCRIPTION:EBiDAN(恵比寿学園男子部) (株)SDR
UID:2100014936529@kyohatsu.lb-product.com
END:VEVENT
BEGIN:VEVENT
DTSTART;VALUE=DATE:20260811
SUMMARY:Yes! 東京 (初回限定原因は自分にある。盤)
DESCRIPTION:EBiDAN(恵比寿学園男子部) (株)SDR
UID:4582795384245@kyohatsu.lb-product.com
END:VEVENT
BEGIN:VEVENT
DTSTART;VALUE=DATE:20260811
SUMMARY:Yes! 東京 (15周年盤D)
DESCRIPTION:EBiDAN(恵比寿学園男子部) (株)SDR
UID:4582795384313@kyohatsu.lb-product.com
END:VEVENT
BEGIN:VEVENT
DTSTART;VALUE=DATE:20260811
SUMMARY:Yes! 東京 (初回限定ICEx盤)
DESCRIPTION:EBiDAN(恵比寿学園男子部) (株)SDR
UID:4582795384269@kyohatsu.lb-product.com
END:VEVENT
BEGIN:VEVENT
DTSTART;VALUE=DATE:20260811
SUMMARY:Yes! 東京 (初回限定ONE N’ ONLY盤)
DESCRIPTION:EBiDAN(恵比寿学園男子部) (株)SDR
UID:4582795384238@kyohatsu.lb-product.com
END:VEVENT
BEGIN:VEVENT
DTSTART;VALUE=DATE:20260811
SUMMARY:Yes! 東京 (15周年盤A)
DESCRIPTION:EBiDAN(恵比寿学園男子部) (株)SDR
UID:4582795384283@kyohatsu.lb-product.com
END:VEVENT
BEGIN:VEVENT
DTSTART;VALUE=DATE:20260811
SUMMARY:Yes! 東京 (初回限定Lienel盤)
DESCRIPTION:EBiDAN(恵比寿学園男子部) (株)SDR
UID:4582795384276@kyohatsu.lb-product.com
END:VEVENT
BEGIN:VEVENT
DTSTART;VALUE=DATE:20260811
SUMMARY:【先着特典】【クレジットカード決済限定】【シリアル対象】Yes! 東京 (初回限定M!LK盤)(シリアルナンバー)
DESCRIPTION:EBiDAN(恵比寿学園男子部) (株)SDR
UID:2100014936734@kyohatsu.lb-product.com
END:VEVENT
BEGIN:VEVENT
DTSTART;VALUE=DATE:20260811
SUMMARY:【先着特典】【クレジットカード決済限定】【シリアル対象】Yes! 東京 (15周年盤E)(シリアルナンバー)
DESCRIPTION:EBiDAN(恵比寿学園男子部) (株)SDR
UID:2100014936857@kyohatsu.lb-product.com
END:VEVENT
BEGIN:VEVENT
DTSTART;VALUE=DATE:20260811
SUMMARY:【先着特典】【クレジットカード決済限定】【シリアル対象】Yes! 東京 (初回限定Lienel盤)(シリアルナンバー)
DESCRIPTION:EBiDAN(恵比寿学園男子部) (株)SDR
UID:2100014936802@kyohatsu.lb-product.com
END:VEVENT
BEGIN:VEVENT
DTSTART;VALUE=DATE:20260811
SUMMARY:【先着特典】【クレジットカード決済限定】【シリアル対象】Yes! 東京 (初回限定Sakurashimeji盤)(シリアルナンバー)
DESCRIPTION:EBiDAN(恵比寿学園男子部) (株)SDR
UID:2100014936758@kyohatsu.lb-product.com
END:VEVENT
BEGIN:VEVENT
DTSTART;VALUE=DATE:20260811
SUMMARY:【楽天ブックス限定先着特典+先着特典】【クレジットカード決済限定】【シリアル対象】Yes! 東京 (5形態セット(15周年盤A＋B＋C＋D＋E))(スマホサイズステッカー2枚(60種ランダム)+シリアルナンバーx5)
DESCRIPTION:EBiDAN(恵比寿学園男子部) (株)SDR
UID:2100014937366@kyohatsu.lb-product.com
END:VEVENT
BEGIN:VEVENT
DTSTART;VALUE=DATE:20260811
SUMMARY:【先着特典】【クレジットカード決済限定】【シリアル対象】Yes! 東京 (15周年盤D)(シリアルナンバー)
DESCRIPTION:EBiDAN(恵比寿学園男子部) (株)SDR
UID:2100014936840@kyohatsu.lb-product.com
END:VEVENT
BEGIN:VEVENT
DTSTART;VALUE=DATE:20260811
SUMMARY:【先着特典】【クレジットカード決済限定】【シリアル対象】Yes! 東京 (通常盤)(シリアルナンバー)
DESCRIPTION:EBiDAN(恵比寿学園男子部) (株)SDR
UID:2100014936710@kyohatsu.lb-product.com
END:VEVENT
BEGIN:VEVENT
DTSTART;VALUE=DATE:20260811
SUMMARY:【先着特典】【クレジットカード決済限定】【シリアル対象】Yes! 東京 (初回限定BUDDiiS盤)(シリアルナンバー)
DESCRIPTION:EBiDAN(恵比寿学園男子部) (株)SDR
UID:2100014936789@kyohatsu.lb-product.com
END:VEVENT
BEGIN:VEVENT
DTSTART;VALUE=DATE:20260811
SUMMARY:【楽天ブックス限定先着特典+先着特典】【クレジットカード決済限定】【シリアル対象】Yes! 東京 (10形態セット(通常盤＋初回限定グループ盤各1枚))(スマホサイズステッカー5枚(60種ランダム)+シリアルナンバーx10)
DESCRIPTION:EBiDAN(恵比寿学園男子部) (株)SDR
UID:2100014937373@kyohatsu.lb-product.com
END:VEVENT
BEGIN:VEVENT
DTSTART;VALUE=DATE:20260811
SUMMARY:【楽天ブックス限定先着特典+先着特典】【クレジットカード決済限定】【シリアル対象】Yes! 東京 (15形態セット(全形態))(スマホサイズステッカー10枚(60種ランダム)+シリアルナンバーx15)
DESCRIPTION:EBiDAN(恵比寿学園男子部) (株)SDR
UID:2100014937380@kyohatsu.lb-product.com
END:VEVENT
BEGIN:VEVENT
DTSTART;VALUE=DATE:20260811
SUMMARY:【先着特典】【クレジットカード決済限定】【シリアル対象】Yes! 東京 (初回限定原因は自分にある。盤)(シリアルナンバー)
DESCRIPTION:EBiDAN(恵比寿学園男子部) (株)SDR
UID:2100014936772@kyohatsu.lb-product.com
END:VEVENT
BEGIN:VEVENT
DTSTART;VALUE=DATE:20260811
SUMMARY:【先着特典】【クレジットカード決済限定】【シリアル対象】Yes! 東京 (15周年盤C)(シリアルナンバー)
DESCRIPTION:EBiDAN(恵比寿学園男子部) 
UID:2100014936833@kyohatsu.lb-product.com
END:VEVENT
BEGIN:VEVENT
DTSTART;VALUE=DATE:20260811
SUMMARY:【先着特典】【クレジットカード決済限定】【シリアル対象】Yes! 東京 (初回限定ONE N’ ONLY盤)(シリアルナンバー)
DESCRIPTION:EBiDAN(恵比寿学園男子部) (株)SDR
UID:2100014936765@kyohatsu.lb-product.com
END:VEVENT
BEGIN:VEVENT
DTSTART;VALUE=DATE:20260811
SUMMARY:【先着特典】【クレジットカード決済限定】【シリアル対象】Yes! 東京 (15周年盤B)(シリアルナンバー)
DESCRIPTION:EBiDAN(恵比寿学園男子部) 
UID:2100014936826@kyohatsu.lb-product.com
END:VEVENT
BEGIN:VEVENT
DTSTART;VALUE=DATE:20260811
SUMMARY:【先着特典】【クレジットカード決済限定】【シリアル対象】Yes! 東京 (初回限定SUPER★DRAGON盤)(シリアルナンバー)
DESCRIPTION:EBiDAN(恵比寿学園男子部) (株)SDR
UID:2100014936741@kyohatsu.lb-product.com
END:VEVENT
BEGIN:VEVENT
DTSTART;VALUE=DATE:20260811
SUMMARY:【先着特典】【クレジットカード決済限定】【シリアル対象】Yes! 東京 (15周年盤A)(シリアルナンバー)
DESCRIPTION:EBiDAN(恵比寿学園男子部) (株)SDR
UID:2100014936819@kyohatsu.lb-product.com
END:VEVENT
BEGIN:VEVENT
DTSTART;VALUE=DATE:20260811
SUMMARY:【先着特典】【クレジットカード決済限定】【シリアル対象】Yes! 東京 (初回限定ICEx盤)(シリアルナンバー)
DESCRIPTION:EBiDAN(恵比寿学園男子部) (株)SDR
UID:2100014936796@kyohatsu.lb-product.com
END:VEVENT
END:VCALENDAR
