BEGIN:VCALENDAR
VERSION:2.0
PRODID:-//kyohatsu//JP
CALSCALE:GREGORIAN
BEGIN:VEVENT
DTSTART;VALUE=DATE:20260610
SUMMARY:【楽天ブックス限定先着特典】Run to Run (初回限定盤)(A4クリアファイル)
DESCRIPTION:Dragon Pony (株)ワーナーミュージック・ジャパン
UID:4943674452910@kyohatsu.lb-product.com
END:VEVENT
BEGIN:VEVENT
DTSTART;VALUE=DATE:20260610
SUMMARY:【楽天ブックス限定先着特典】Run to Run (通常盤)(A4クリアファイル)
DESCRIPTION:Dragon Pony (株)ワーナーミュージック・ジャパン
UID:4943674452903@kyohatsu.lb-product.com
END:VEVENT
BEGIN:VEVENT
DTSTART;VALUE=DATE:20260610
SUMMARY:【楽天ブックス限定先着特典+早期予約特典】【クレジットカード決済限定】【シリアル対象】Run to Run (初回限定盤)(A4クリアファイル+シリアルコード)
DESCRIPTION:Dragon Pony (株)ワーナーミュージック・ジャパン
UID:2100014936567@kyohatsu.lb-product.com
END:VEVENT
BEGIN:VEVENT
DTSTART;VALUE=DATE:20260610
SUMMARY:【楽天ブックス限定先着特典+早期予約特典】【クレジットカード決済限定】【シリアル対象】Run to Run (通常盤)(A4クリアファイル+シリアルコード)
DESCRIPTION:Dragon Pony (株)ワーナーミュージック・ジャパン
UID:2100014936574@kyohatsu.lb-product.com
END:VEVENT
END:VCALENDAR
