BEGIN:VCALENDAR
VERSION:2.0
PRODID:-//kyohatsu//JP
CALSCALE:GREGORIAN
BEGIN:VEVENT
DTSTART;VALUE=DATE:20260603
SUMMARY:ディサイド
DESCRIPTION:Djo (株)ソニー・ミュージックレーベルズ
UID:4547366819878@kyohatsu.lb-product.com
END:VEVENT
END:VCALENDAR
