BEGIN:VCALENDAR
VERSION:2.0
PRODID:-//kyohatsu//JP
CALSCALE:GREGORIAN
BEGIN:VEVENT
DTSTART;VALUE=DATE:20260826
SUMMARY:【楽天ブックス限定先着特典】Disney Twisted-Wonderland Character Song Collection【初回生産限定盤】(MVミニブロマイド7枚セット(ハーツラビュル寮))
DESCRIPTION:Disney Twisted-Wonderland (株)アニプレックス
UID:2100014908847@kyohatsu.lb-product.com
END:VEVENT
END:VCALENDAR
