BEGIN:VCALENDAR
VERSION:2.0
PRODID:-//kyohatsu//JP
CALSCALE:GREGORIAN
BEGIN:VEVENT
DTSTART;VALUE=DATE:20260605
SUMMARY:【輸入盤】エル・ハジャール（ボーナス・トラック・ヴァージョン）（アナログ盤）
DESCRIPTION:DUDU TASSA & THE KUWAITIS 
UID:4099964223248@kyohatsu.lb-product.com
END:VEVENT
END:VCALENDAR
