BEGIN:VCALENDAR
VERSION:2.0
PRODID:-//kyohatsu//JP
CALSCALE:GREGORIAN
BEGIN:VEVENT
DTSTART;VALUE=DATE:20260715
SUMMARY:【楽天ブックス限定先着特典】315 Production presents F＠NTASTIC BATTLE FES 〜Who goes first〜 LIVE Blu-ray【Blu-ray】(B2タペストリー)
DESCRIPTION:DRAMATIC STARS、FRAME、彩、High×Joker、神速一魂、THE 虎牙道、F-LAGS、Legenders (株)バンダイナムコエンターテインメント
UID:2100014664903@kyohatsu.lb-product.com
END:VEVENT
END:VCALENDAR
