BEGIN:VCALENDAR
VERSION:2.0
PRODID:-//kyohatsu//JP
CALSCALE:GREGORIAN
BEGIN:VEVENT
DTSTART;VALUE=DATE:20260529
SUMMARY:【輸入盤】エピローグ：ザ・セラー・テープス
DESCRIPTION:DON WILLIAMS 
UID:0888072756540@kyohatsu.lb-product.com
END:VEVENT
END:VCALENDAR
