BEGIN:VCALENDAR
VERSION:2.0
PRODID:-//kyohatsu//JP
CALSCALE:GREGORIAN
BEGIN:VEVENT
DTSTART;VALUE=DATE:20260708
SUMMARY:PRESENT（初回生産限定 CD+Blu-ray）
DESCRIPTION:DOBERMAN INFINITY (株)LDH JAPAN
UID:4589757404034@kyohatsu.lb-product.com
END:VEVENT
BEGIN:VEVENT
DTSTART;VALUE=DATE:20260708
SUMMARY:【楽天ブックス限定先着特典】PRESENT（初回生産限定 CD+2DVD）(A3ポスター)
DESCRIPTION:DOBERMAN INFINITY (株)LDH JAPAN
UID:2100014958248@kyohatsu.lb-product.com
END:VEVENT
BEGIN:VEVENT
DTSTART;VALUE=DATE:20260708
SUMMARY:PRESENT（初回生産限定 CD+2DVD）
DESCRIPTION:DOBERMAN INFINITY (株)LDH JAPAN
UID:4589757404041@kyohatsu.lb-product.com
END:VEVENT
BEGIN:VEVENT
DTSTART;VALUE=DATE:20260708
SUMMARY:【楽天ブックス限定先着特典】PRESENT（初回生産限定 CD+Blu-ray）(A3ポスター)
DESCRIPTION:DOBERMAN INFINITY (株)LDH JAPAN
UID:2100014958231@kyohatsu.lb-product.com
END:VEVENT
END:VCALENDAR
