BEGIN:VCALENDAR
VERSION:2.0
PRODID:-//kyohatsu//JP
CALSCALE:GREGORIAN
BEGIN:VEVENT
DTSTART;VALUE=DATE:20260624
SUMMARY:ALTERED STATE
DESCRIPTION:DEFILED DIW on METAL
UID:4988044138131@kyohatsu.lb-product.com
END:VEVENT
END:VCALENDAR
