BEGIN:VCALENDAR
VERSION:2.0
PRODID:-//kyohatsu//JP
CALSCALE:GREGORIAN
BEGIN:VEVENT
DTSTART;VALUE=DATE:20260601
SUMMARY:LIVE IN OSAKA 2014 FINAL DAMONATION
DESCRIPTION:DAMO SUZUKI with MAGICAL POWER MAKO 時弦プロダクション
UID:4582561392078@kyohatsu.lb-product.com
END:VEVENT
END:VCALENDAR
