BEGIN:VCALENDAR
VERSION:2.0
PRODID:-//kyohatsu//JP
CALSCALE:GREGORIAN
BEGIN:VEVENT
DTSTART;VALUE=DATE:20260805
SUMMARY:【先着特典】できるだけ感動の方へ(オリジナルステッカー)
DESCRIPTION:Cloudy Cloudy
UID:4526845110262@kyohatsu.lb-product.com
END:VEVENT
END:VCALENDAR
