BEGIN:VCALENDAR
VERSION:2.0
PRODID:-//kyohatsu//JP
CALSCALE:GREGORIAN
BEGIN:VEVENT
DTSTART;VALUE=DATE:20260527
SUMMARY:【楽天ブックス限定先着特典】Revive(オリジナルスマホサイズブロマイド)
DESCRIPTION:ClariS (株)ソニー・ミュージックレーベルズ
UID:4547366813548@kyohatsu.lb-product.com
END:VEVENT
BEGIN:VEVENT
DTSTART;VALUE=DATE:20260527
SUMMARY:Revive (初回生産限定盤 CD＋Blu-ray)
DESCRIPTION:ClariS (株)ソニー・ミュージックレーベルズ
UID:4547366813531@kyohatsu.lb-product.com
END:VEVENT
BEGIN:VEVENT
DTSTART;VALUE=DATE:20260527
SUMMARY:Revive (期間生産限定盤 CD＋Blu-ray)
DESCRIPTION:ClariS (株)ソニー・ミュージックレーベルズ
UID:4547366813555@kyohatsu.lb-product.com
END:VEVENT
BEGIN:VEVENT
DTSTART;VALUE=DATE:20260527
SUMMARY:【楽天ブックス限定先着特典】Revive (初回生産限定盤 CD＋Blu-ray)(オリジナルスマホサイズブロマイド)
DESCRIPTION:ClariS (株)ソニー・ミュージックレーベルズ
UID:2100014946702@kyohatsu.lb-product.com
END:VEVENT
BEGIN:VEVENT
DTSTART;VALUE=DATE:20260527
SUMMARY:【楽天ブックス限定先着特典】Revive (期間生産限定盤 CD＋Blu-ray)(オリジナルスマホサイズブロマイド)
DESCRIPTION:ClariS (株)ソニー・ミュージックレーベルズ
UID:2100014946719@kyohatsu.lb-product.com
END:VEVENT
END:VCALENDAR
