BEGIN:VCALENDAR
VERSION:2.0
PRODID:-//kyohatsu//JP
CALSCALE:GREGORIAN
BEGIN:VEVENT
DTSTART;VALUE=DATE:20260626
SUMMARY:自由に浸る、野営の技術 週末、自然の中で息をつく
DESCRIPTION:Chee-Bow KADOKAWA
UID:9784043300860@kyohatsu.lb-product.com
END:VEVENT
END:VCALENDAR
